BEGIN:VCALENDAR
VERSION:2.0
METHOD:PUBLISH
BEGIN:VEVENT
ORGANIZER:MAILTO:
DTSTART:20260312T150000Z
DTEND:20260312T160000Z
LOCATION:Learn More: https://sugarclub.sugarcrm.com/social-club
SUMMARY:Social Club: Sugar Reporting
DESCRIPTION;ENCODING=QUOTED-PRINTABLE:Social-Club-banner.png \n This Social Club session will be held on: March 12, 2025 8:00 am PDT | 11:00 am EDT \n SugarClub is back for 2026, and we&#39;re excited to see you again! Make sure you register for this year&#39;s event series so you don&#39;t miss any meetups! \n Join Sugar&#39;s Kim Troy ( Solution Consultant ) to discuss Sugar&#39;s Reporting functionality and the interesting ways it can help your organization in a variety of situations. Bring your own &quot;tips and tricks,&quot; use cases, questions, and experiences to share with the group! \n This session is most impactful for any Sugar Sell, Sugar Serve, or Enterprise administrators. \n This is an interactive session, so we hope you&#39;ll have your camera on and be willing to unmute yourself to join in the discussion &ndash; remember, Social Club sessions are not recorded! \n Register Now! \n Click the &quot;Receive notifications about updates to this event&quot; button on this event in SugarClub to be alerted of any updates! \n Learn more about Social Club and find out about more sessions in Social Club !
X-ALT-DESC;FMTTYPE=text/html:<html><body><p style="text-align:center;"><a title="Register Now!" href="https://sugarcrm.zoom.us/meeting/register/TttyzuBpRVKWzoIQ_l3ukQ" rel="noopener noreferrer" target="_blank"><strong><a href="https://sugarclub.sugarai.com/resized-image/__size/2000x0/__key/telligent-evolution-extensions-calendar-calendarfiles/00-00-00-00-15/Social-Club-banner.png">Social-Club-banner.png</a></strong></a></p><p style="text-align:center;"><strong></strong><span style="font-size:150%;">This&nbsp;<a href="https://sugarclub.sugarai.com/social-club/" data-contentid="0779cf7871164b55a56df11bcdf0c604" data-contenttypeid="23b05a61c3e5445190d9bfa00453bce4" class="ui-contentpeek internal-link">Social Club</a>&nbsp;session will be held on:<br /><a href="https://sugarcrm.zoom.us/meeting/register/TttyzuBpRVKWzoIQ_l3ukQ" rel="noopener noreferrer" target="_blank">March&nbsp;12, 2025 8:00 am PDT&nbsp;|&nbsp;11:00 am EDT</a></span></p><p style="text-align:center;"><span style="font-size:150%;"><br /><em>SugarClub is back for 2026, and we&#39;re excited to see you again! Make sure you <strong>register</strong> <strong>for this year&#39;s event series</strong> so you don&#39;t miss any meetups!&nbsp;</em></span></p><p><span style="font-size:150%;">Join Sugar&#39;s&nbsp;<a href="https://sugarclub.sugarai.com/members/kim-troy" data-contentid="150f3d28be8749e590dbcbf581b61a2e" data-contenttypeid="e9ed411860ed4f2ba0265705b8793d05" class="ui-contentpeek internal-link view-user-profile">Kim Troy</a>&nbsp;(<em>Solution Consultant</em>)&nbsp;to discuss Sugar&#39;s Reporting functionality and&nbsp;the interesting ways it can help your organization in a variety of situations.&nbsp;</span><span style="font-size:150%;">Bring your own &quot;tips and tricks,&quot; use cases, questions, and experiences to share with the group!</span></p><p><span style="font-size:150%;"><strong>This session is most impactful for </strong>any Sugar Sell, Sugar Serve, or Enterprise administrators.</span></p><p style="text-align:left;"><span style="font-size:150%;"><strong></strong></span><span style="font-size:150%;">This is an interactive session, so we hope you&#39;ll have your <strong>camera on</strong> and be willing to <strong>unmute yourself&nbsp;to join in the discussion &ndash; remember, Social Club sessions are not recorded!</strong>&nbsp;</span></p><div style="padding:20px;text-align:center;"><a style="background:#FF8200;border:3px solid #FFFFFF;color:#ffffff;display:inline-block;font-size:200%;font-weight:bold;padding:13px 144px;text-align:center;text-decoration:none;" href="https://sugarcrm.zoom.us/meeting/register/TttyzuBpRVKWzoIQ_l3ukQ"><span class="text-orange">Register Now!</span></a></div><p style="text-align:center;"><span style="font-size:150%;"><strong></strong></span><span style="font-size:150%;"><strong><em>Click the &quot;Receive notifications about updates to this event&quot; button on this event in SugarClub to be alerted of any updates!</em></strong></span></p><p style="font-size:150%;text-align:center;"><strong><em>Learn more about Social Club and find out about more sessions in <a title="Social Club: Learn more" href="https://sugarclub.sugarai.com/social-club#learn_more_about_social_club" rel="noopener noreferrer" target="_blank">Social Club</a>!</em></strong></p></body></html>
CLASS:PUBLIC
END:VEVENT
END:VCALENDAR